BEGIN:VCALENDAR
VERSION:2.0
PRODID:-//Hotel Posada Chimimaya - ECPv6.14.0//NONSGML v1.0//EN
CALSCALE:GREGORIAN
METHOD:PUBLISH
X-WR-CALNAME:Hotel Posada Chimimaya
X-ORIGINAL-URL:https://www.hotelchinimaya.com
X-WR-CALDESC:Events for Hotel Posada Chimimaya
REFRESH-INTERVAL;VALUE=DURATION:PT1H
X-Robots-Tag:noindex
X-PUBLISHED-TTL:PT1H
BEGIN:VTIMEZONE
TZID:UTC
BEGIN:STANDARD
TZOFFSETFROM:+0000
TZOFFSETTO:+0000
TZNAME:UTC
DTSTART:20210101T000000
END:STANDARD
END:VTIMEZONE
BEGIN:VEVENT
DTSTART;TZID=UTC:20210621T080000
DTEND;TZID=UTC:20210625T170000
DTSTAMP:20260419T134854
CREATED:20210506T161738Z
LAST-MODIFIED:20210507T221751Z
UID:1839-1624262400-1624640400@www.hotelchinimaya.com
SUMMARY:Feria Patronal en San Juan La Laguna
DESCRIPTION:Se celebra el 24 de junio de cada año en honor a San Juan Bautista\, se celebra la fecha de su nacimiento ya que según datos bíblicos fue santificado en el vientre de su madre\, Santa Isabel. \nLas actividades con las que se da inicio a la fiesta patronal del municipio de San Juan La Laguna son las de elección y coronación de distintas reinas indígenas y reinas de belleza\, por la mezcla de la costumbres mayas con prácticas populares destaca la coronación de la señorita Ki Kotz’i’j aj Tijoxelaa Rixiin. \nEntre las actividades pernoctante está la demostración del juego de pelota maya.
URL:https://www.hotelchinimaya.com/eventos-y-actividades-en-el-lago/feria-patronal-en-san-juan-la-laguna
LOCATION:San Juan La Laguna\, San Juan La Laguna\, Solola\, 07010\, Guatemala
CATEGORIES:Fiestas Patronales
ATTACH;FMTTYPE=image/jpeg:https://www.hotelchinimaya.com/wp-content/uploads/2021/05/Feria-Patronal-en-San-Juan-La-Laguna.jpg
END:VEVENT
BEGIN:VEVENT
DTSTART;TZID=UTC:20210610T080000
DTEND;TZID=UTC:20210614T170000
DTSTAMP:20260419T134854
CREATED:20210506T161353Z
LAST-MODIFIED:20210507T222012Z
UID:1835-1623312000-1623690000@www.hotelchinimaya.com
SUMMARY:Feria Patronal en San Antonio Palopó
DESCRIPTION:Se celebra el 13 de junio en honor a Antonio de Padua. \nSegún la tradición cristiana\, San Antonio de Padua es uno de los santos más venerados en todo el mundo y su más conocido milagro es el de encontrar objetos perdidos\, además se dice que es patrono de mujeres estériles\, pobres\, viajeros y panaderos. \nLa primera actividad que se realiza durante la fiesta patronal de San Antonio Palopó es la investidura de la reina indígena Ru Kotz’ij Tinamit\, generalmente este evento se realiza en el segundo nivel del mercado municipal y se cuenta con la participación de una marimba orquesta.
URL:https://www.hotelchinimaya.com/eventos-y-actividades-en-el-lago/feria-patronal-en-san-antonio-palopo
LOCATION:San Antonio Palopó\, San Antonio Palopó\, Solola\, 07010\, Guatemala
CATEGORIES:Fiestas Patronales
ATTACH;FMTTYPE=image/jpeg:https://www.hotelchinimaya.com/wp-content/uploads/2021/05/Feria-Patronal-en-San-Antonio-Palopo.jpg
END:VEVENT
BEGIN:VEVENT
DTSTART;TZID=UTC:20210507T080000
DTEND;TZID=UTC:20210511T170000
DTSTAMP:20260419T134854
CREATED:20210506T172301Z
LAST-MODIFIED:20210507T222142Z
UID:1881-1620374400-1620752400@www.hotelchinimaya.com
SUMMARY:Feria Patronal Santa Cruz La Laguna
DESCRIPTION:Se celebra el 10 de mayo de cada año\, en honor a Santa Elena de la Cruz.
URL:https://www.hotelchinimaya.com/eventos-y-actividades-en-el-lago/feria-patronal-santa-cruz-la-laguna
LOCATION:Santa Cruz La Laguna\, Santa Cruz La Laguna\, Solola\, 07010\, Guatemala
CATEGORIES:Fiestas Patronales
ATTACH;FMTTYPE=image/jpeg:https://www.hotelchinimaya.com/wp-content/uploads/2021/05/Feria-Patronal-en-Santa-Cruz-La-Laguna.jpg
END:VEVENT
BEGIN:VEVENT
DTSTART;TZID=UTC:20210422T080000
DTEND;TZID=UTC:20210426T170000
DTSTAMP:20260419T134854
CREATED:20210506T163319Z
LAST-MODIFIED:20210507T222315Z
UID:1847-1619078400-1619456400@www.hotelchinimaya.com
SUMMARY:Feria Patronal en San Marcos La Laguna
DESCRIPTION:
URL:https://www.hotelchinimaya.com/eventos-y-actividades-en-el-lago/feria-patronal-en-san-marcos-la-laguna
LOCATION:San Marcos La Laguna\, San Marcos La Laguna\, Solola\, 07010\, Guatemala
CATEGORIES:Fiestas Patronales
ATTACH;FMTTYPE=image/jpeg:https://www.hotelchinimaya.com/wp-content/uploads/2021/05/Feria-Patronal-en-San-Marcos-La-Laguna-1.jpg
END:VEVENT
BEGIN:VEVENT
DTSTART;TZID=UTC:20210420T080000
DTEND;TZID=UTC:20210424T170000
DTSTAMP:20260419T134854
CREATED:20210507T193256Z
LAST-MODIFIED:20210507T233333Z
UID:1929-1618905600-1619283600@www.hotelchinimaya.com
SUMMARY:Feria Patronal en San Jorge La Laguna
DESCRIPTION:Se celebra el 23 de Abril cada año en honor a San Jorge Mártir. \nTienen programadas varias actividades programadas\, culturales\, religiosas\, sociales y deportivas; entre ellas para culminar la semana festiva está carrera denominada “La Matadora” que consta de una carrera de atletismo de 16 kms.
URL:https://www.hotelchinimaya.com/eventos-y-actividades-en-el-lago/feria-patronal-en-san-jorge-la-laguna
LOCATION:San Jorge La Laguna\, San Jorge La Laguna\, Solola\, 07010\, Guatemala
CATEGORIES:Fiestas Patronales
ATTACH;FMTTYPE=image/jpeg:https://www.hotelchinimaya.com/wp-content/uploads/2021/05/San-Jorge-La-Laguna.jpg
END:VEVENT
BEGIN:VEVENT
DTSTART;TZID=UTC:20210316T080000
DTEND;TZID=UTC:20210320T170000
DTSTAMP:20260419T134854
CREATED:20210506T165351Z
LAST-MODIFIED:20210507T225702Z
UID:1857-1615881600-1616259600@www.hotelchinimaya.com
SUMMARY:Feria Patronal en San José Chacayá
DESCRIPTION:
URL:https://www.hotelchinimaya.com/eventos-y-actividades-en-el-lago/feria-patronal-en-san-jose-chacaya
LOCATION:San José Chacayá\, San José Chacayá\, Solola\, 07010\, Guatemala
CATEGORIES:Fiestas Patronales
ATTACH;FMTTYPE=image/jpeg:https://www.hotelchinimaya.com/wp-content/uploads/2021/05/San-Jose-Chacaya.jpg
END:VEVENT
BEGIN:VEVENT
DTSTART;TZID=UTC:20210122T080000
DTEND;TZID=UTC:20210126T170000
DTSTAMP:20260419T134854
CREATED:20210506T170103Z
LAST-MODIFIED:20210507T225847Z
UID:1861-1611302400-1611680400@www.hotelchinimaya.com
SUMMARY:Feria Patronal en San Pablo La Laguna
DESCRIPTION:
URL:https://www.hotelchinimaya.com/eventos-y-actividades-en-el-lago/feria-patronal-en-san-pablo-la-laguna
LOCATION:San Pablo La Laguna\, San Pablo La Laguna\, Solola\, 07010\, Guatemala
CATEGORIES:Fiestas Patronales
ATTACH;FMTTYPE=image/jpeg:https://www.hotelchinimaya.com/wp-content/uploads/2021/05/Feria-Patronal-en-San-Pablo-La-Laguna.jpg
END:VEVENT
END:VCALENDAR